BEGIN:VCALENDAR
VERSION:2.0
PRODID:-//Kush Edifying Ministries - Online - ECPv6.15.20//NONSGML v1.0//EN
CALSCALE:GREGORIAN
METHOD:PUBLISH
X-WR-CALNAME:Kush Edifying Ministries - Online
X-ORIGINAL-URL:https://kushedifyingministries.org
X-WR-CALDESC:Events for Kush Edifying Ministries - Online
REFRESH-INTERVAL;VALUE=DURATION:PT1H
X-Robots-Tag:noindex
X-PUBLISHED-TTL:PT1H
BEGIN:VTIMEZONE
TZID:America/New_York
BEGIN:DAYLIGHT
TZOFFSETFROM:-0500
TZOFFSETTO:-0400
TZNAME:EDT
DTSTART:20250309T070000
END:DAYLIGHT
BEGIN:STANDARD
TZOFFSETFROM:-0400
TZOFFSETTO:-0500
TZNAME:EST
DTSTART:20251102T060000
END:STANDARD
BEGIN:DAYLIGHT
TZOFFSETFROM:-0500
TZOFFSETTO:-0400
TZNAME:EDT
DTSTART:20260308T070000
END:DAYLIGHT
BEGIN:STANDARD
TZOFFSETFROM:-0400
TZOFFSETTO:-0500
TZNAME:EST
DTSTART:20261101T060000
END:STANDARD
BEGIN:DAYLIGHT
TZOFFSETFROM:-0500
TZOFFSETTO:-0400
TZNAME:EDT
DTSTART:20270314T070000
END:DAYLIGHT
BEGIN:STANDARD
TZOFFSETFROM:-0400
TZOFFSETTO:-0500
TZNAME:EST
DTSTART:20271107T060000
END:STANDARD
END:VTIMEZONE
BEGIN:VEVENT
DTSTART;TZID=America/New_York:20260330T180000
DTEND;TZID=America/New_York:20260331T180000
DTSTAMP:20260423T131047
CREATED:20231116T073152Z
LAST-MODIFIED:20260109T071450Z
UID:940-1774893600-1774980000@kushedifyingministries.org
SUMMARY:Passover (Exodus 12)
DESCRIPTION:Elohim of Israel instituted this Holy Day on the last night of Israel Deliverance from the bondage in Egypt when Yahweh “Passed Over” the firstborn of His Inheritance Israel. In prophecy\, it represented the Lamb of Yahweh (Revelation 5:6); the Son of Elohim\, Yahushua\, the Messiah sacrificed His Body as an atonement for all humankind (Romans 3:25). The Messiah\, our Passover Lamb\, sacrificed (1 Cor. 5:7).
URL:https://kushedifyingministries.org/event/passover-exodus-12/
CATEGORIES:Yahweh's Holy Days
ATTACH;FMTTYPE=image/jpeg:https://kushedifyingministries.org/wp-content/uploads/2023/05/25b.jpg
ORGANIZER;CN="Kush Edifying Ministries":MAILTO:evangelistrondavis@kemonline.org
END:VEVENT
END:VCALENDAR