BEGIN:VCALENDAR
VERSION:2.0
PRODID:-//Kush Edifying Ministries - Online - ECPv6.15.20//NONSGML v1.0//EN
CALSCALE:GREGORIAN
METHOD:PUBLISH
X-WR-CALNAME:Kush Edifying Ministries - Online
X-ORIGINAL-URL:https://kushedifyingministries.org
X-WR-CALDESC:Events for Kush Edifying Ministries - Online
REFRESH-INTERVAL;VALUE=DURATION:PT1H
X-Robots-Tag:noindex
X-PUBLISHED-TTL:PT1H
BEGIN:VTIMEZONE
TZID:America/New_York
BEGIN:DAYLIGHT
TZOFFSETFROM:-0500
TZOFFSETTO:-0400
TZNAME:EDT
DTSTART:20250309T070000
END:DAYLIGHT
BEGIN:STANDARD
TZOFFSETFROM:-0400
TZOFFSETTO:-0500
TZNAME:EST
DTSTART:20251102T060000
END:STANDARD
BEGIN:DAYLIGHT
TZOFFSETFROM:-0500
TZOFFSETTO:-0400
TZNAME:EDT
DTSTART:20260308T070000
END:DAYLIGHT
BEGIN:STANDARD
TZOFFSETFROM:-0400
TZOFFSETTO:-0500
TZNAME:EST
DTSTART:20261101T060000
END:STANDARD
BEGIN:DAYLIGHT
TZOFFSETFROM:-0500
TZOFFSETTO:-0400
TZNAME:EDT
DTSTART:20270314T070000
END:DAYLIGHT
BEGIN:STANDARD
TZOFFSETFROM:-0400
TZOFFSETTO:-0500
TZNAME:EST
DTSTART:20271107T060000
END:STANDARD
END:VTIMEZONE
BEGIN:VEVENT
DTSTART;TZID=America/New_York:20260401T180000
DTEND;TZID=America/New_York:20260408T180000
DTSTAMP:20260423T142313
CREATED:20231116T073113Z
LAST-MODIFIED:20260109T071347Z
UID:944-1775066400-1775671200@kushedifyingministries.org
SUMMARY:Festival of Unleavened Bread
DESCRIPTION:Festival of Unleavened Bread instituted by Elohim for His Inheritance Israel representing the day Yahweh brought our ancestors out of bondage in Egypt (Exodus 12). Israel required to eat only unleavened bread (without yeast) with bitter herbs during this seven day period to remember the time of their affliction in Egypt when they left in haste (Deuteronomy 16). In prophecy\, Yahweh fulfilled in the Messiah giving us\, the First-fruits His Holy Spirit that we may keep this festival by producing sincerity and truth\, unleavened bread – resisting malice and wickedness which are “leavened bread” (1 Corinthians 5:8).
URL:https://kushedifyingministries.org/event/festival-of-unleavened-bread/
CATEGORIES:Yahweh's Holy Days
ATTACH;FMTTYPE=image/jpeg:https://kushedifyingministries.org/wp-content/uploads/2023/05/amerNegro-2022_03_29-00_09_23-UTC-1.jpg
ORGANIZER;CN="Kush Edifying Ministries":MAILTO:evangelistrondavis@kemonline.org
END:VEVENT
BEGIN:VEVENT
DTSTART;TZID=America/New_York:20260523T180000
DTEND;TZID=America/New_York:20260524T180000
DTSTAMP:20260423T142313
CREATED:20230512T234845Z
LAST-MODIFIED:20260109T071212Z
UID:518-1779559200-1779645600@kushedifyingministries.org
SUMMARY:Day of Pentecost
DESCRIPTION:Yahweh’s Holy Day – Day of Pentecost
URL:https://kushedifyingministries.org/event/day-of-pentecost/
CATEGORIES:Yahweh's Holy Days
ATTACH;FMTTYPE=image/jpeg:https://kushedifyingministries.org/wp-content/uploads/2023/05/Dove_pink-love-hot-pink.jpg
END:VEVENT
BEGIN:VEVENT
DTSTART;TZID=America/New_York:20260911T000000
DTEND;TZID=America/New_York:20260912T235959
DTSTAMP:20260423T142313
CREATED:20230525T031554Z
LAST-MODIFIED:20260109T071010Z
UID:592-1789084800-1789257599@kushedifyingministries.org
SUMMARY:The Festival of Trumpets
DESCRIPTION:Yahweh Holy Day – Feast of Trumpets
URL:https://kushedifyingministries.org/event/the-festival-of-trumpets/
CATEGORIES:Yahweh's Holy Days
ATTACH;FMTTYPE=image/jpeg:https://kushedifyingministries.org/wp-content/uploads/2023/05/SevenTrumpets.jpg
END:VEVENT
BEGIN:VEVENT
DTSTART;TZID=America/New_York:20260920T000000
DTEND;TZID=America/New_York:20260921T235959
DTSTAMP:20260423T142313
CREATED:20230525T040525Z
LAST-MODIFIED:20260109T071110Z
UID:668-1789862400-1790035199@kushedifyingministries.org
SUMMARY:Day of Atonement
DESCRIPTION:Yahweh’s Holy Day – Day of Atonement
URL:https://kushedifyingministries.org/event/day-of-atonement/
CATEGORIES:Yahweh's Holy Days
ATTACH;FMTTYPE=image/webp:https://kushedifyingministries.org/wp-content/uploads/2023/05/day-of-atonement-1-2.webp
END:VEVENT
BEGIN:VEVENT
DTSTART;TZID=America/New_York:20260925T180000
DTEND;TZID=America/New_York:20261002T180000
DTSTAMP:20260423T142313
CREATED:20230525T041959Z
LAST-MODIFIED:20260109T070630Z
UID:672-1790359200-1790964000@kushedifyingministries.org
SUMMARY:The Festival of Tabernacles
DESCRIPTION:Prophesy as the Thousand Year Reign of the Messiah
URL:https://kushedifyingministries.org/event/the-festival-of-tabernacles/
CATEGORIES:Yahweh's Holy Days
ATTACH;FMTTYPE=image/jpeg:https://kushedifyingministries.org/wp-content/uploads/2023/05/feast-of-tabernacles-israel.jpg
END:VEVENT
BEGIN:VEVENT
DTSTART;TZID=America/New_York:20261002T180000
DTEND;TZID=America/New_York:20261003T180000
DTSTAMP:20260423T142313
CREATED:20230525T044243Z
LAST-MODIFIED:20260109T070242Z
UID:675-1790964000-1791050400@kushedifyingministries.org
SUMMARY:The Last Great Day (The Eighth Day)
DESCRIPTION:The Final Day of this Current Evil and Adulterous Age – The New Heaven and Earth
URL:https://kushedifyingministries.org/event/the-last-great-day-the-eighth-day/
CATEGORIES:Yahweh's Holy Days
ATTACH;FMTTYPE=image/jpeg:https://kushedifyingministries.org/wp-content/uploads/2023/05/Great-White-Throne-Judgment-.jpg
END:VEVENT
END:VCALENDAR